BEGIN:VCALENDAR
VERSION:2.0
PRODID:-//Art Canrobert e.V. - ECPv6.15.17.1//NONSGML v1.0//EN
CALSCALE:GREGORIAN
METHOD:PUBLISH
X-ORIGINAL-URL:https://art-canrobert.de
X-WR-CALDESC:Veranstaltungen für Art Canrobert e.V.
REFRESH-INTERVAL;VALUE=DURATION:PT1H
X-Robots-Tag:noindex
X-PUBLISHED-TTL:PT1H
BEGIN:VTIMEZONE
TZID:Europe/Berlin
BEGIN:DAYLIGHT
TZOFFSETFROM:+0100
TZOFFSETTO:+0200
TZNAME:CEST
DTSTART:20240331T010000
END:DAYLIGHT
BEGIN:STANDARD
TZOFFSETFROM:+0200
TZOFFSETTO:+0100
TZNAME:CET
DTSTART:20241027T010000
END:STANDARD
BEGIN:DAYLIGHT
TZOFFSETFROM:+0100
TZOFFSETTO:+0200
TZNAME:CEST
DTSTART:20250330T010000
END:DAYLIGHT
BEGIN:STANDARD
TZOFFSETFROM:+0200
TZOFFSETTO:+0100
TZNAME:CET
DTSTART:20251026T010000
END:STANDARD
BEGIN:DAYLIGHT
TZOFFSETFROM:+0100
TZOFFSETTO:+0200
TZNAME:CEST
DTSTART:20260329T010000
END:DAYLIGHT
BEGIN:STANDARD
TZOFFSETFROM:+0200
TZOFFSETTO:+0100
TZNAME:CET
DTSTART:20261025T010000
END:STANDARD
END:VTIMEZONE
BEGIN:VEVENT
DTSTART;TZID=Europe/Berlin:20251024T193000
DTEND;TZID=Europe/Berlin:20251024T233000
DTSTAMP:20260419T174507
CREATED:20251006T075324Z
LAST-MODIFIED:20251006T075444Z
UID:1066-1761334200-1761348600@art-canrobert.de
SUMMARY:I Saw Daylight\, Canine & Vier
DESCRIPTION:Endlich wieder I SAW DAYLIGHT! \n\n\n\nUnd diesmal hat die Melodic Hardcore Institution aus Ulm auch noch eine neue Scheibe im Gepäck. Wer schon mal das Vergnügen hatte\, einer ihrer Shows beizuwohnen (es gab da ja schon die eine oder andere Gelegenheit)\, weiß: Es wird emotional und wild und wunderbar. Wir können es kaum erwarten  \n\n\n\nAuch CANINE kommen nicht zum ersten Mal zu uns: Letztes Jahr im Februar haben die fünf Herrschaften ordentlich abgerissen und wir haben keinen Zweifel daran\, dass die Punk/Hardcore-Chaoten aus Offenbach direkt da weiter machen werden\, wo sie damals aufgehört haben  \n\n\n\nKomplettiert wird unser hochkarätiges Lineup durch die legendären VIER\, die unsere Bühne ungewöhnlich lange nicht beehrt haben. Wir freuen uns schon auf die lieblichen Klänge von Hardcore Punk\, der sich anhört wie eine Entführung im Audi 100 Kofferraum  \n\n\n\n 24. Oktober 2025 19:30 Uhr 20:30 Uhr \n\n\n\nPackt die Mosh-Schlappen ein und verpasst das nicht!
URL:https://art-canrobert.de/veranstaltung/i-saw-daylight-canine-vier/
LOCATION:Art Canrobert e.V.\, Karlstraße 23 (Hintereingang)\, Rastatt\, Baden-Württemberg\, 76437\, Deutschland
CATEGORIES:Konzerte
ATTACH;FMTTYPE=image/jpeg:https://art-canrobert.de/wp-content/uploads/2025/10/ACR251024-WEB.jpg
END:VEVENT
END:VCALENDAR