BEGIN:VCALENDAR
VERSION:2.0
PRODID:-//Art Canrobert e.V. - ECPv6.15.17.1//NONSGML v1.0//EN
CALSCALE:GREGORIAN
METHOD:PUBLISH
X-WR-CALNAME:Art Canrobert e.V.
X-ORIGINAL-URL:https://art-canrobert.de
X-WR-CALDESC:Veranstaltungen für Art Canrobert e.V.
REFRESH-INTERVAL;VALUE=DURATION:PT1H
X-Robots-Tag:noindex
X-PUBLISHED-TTL:PT1H
BEGIN:VTIMEZONE
TZID:Europe/Berlin
BEGIN:DAYLIGHT
TZOFFSETFROM:+0100
TZOFFSETTO:+0200
TZNAME:CEST
DTSTART:20250330T010000
END:DAYLIGHT
BEGIN:STANDARD
TZOFFSETFROM:+0200
TZOFFSETTO:+0100
TZNAME:CET
DTSTART:20251026T010000
END:STANDARD
BEGIN:DAYLIGHT
TZOFFSETFROM:+0100
TZOFFSETTO:+0200
TZNAME:CEST
DTSTART:20260329T010000
END:DAYLIGHT
BEGIN:STANDARD
TZOFFSETFROM:+0200
TZOFFSETTO:+0100
TZNAME:CET
DTSTART:20261025T010000
END:STANDARD
BEGIN:DAYLIGHT
TZOFFSETFROM:+0100
TZOFFSETTO:+0200
TZNAME:CEST
DTSTART:20270328T010000
END:DAYLIGHT
BEGIN:STANDARD
TZOFFSETFROM:+0200
TZOFFSETTO:+0100
TZNAME:CET
DTSTART:20271031T010000
END:STANDARD
END:VTIMEZONE
BEGIN:VEVENT
DTSTART;TZID=Europe/Berlin:20260110T193000
DTEND;TZID=Europe/Berlin:20260110T233000
DTSTAMP:20260420T004246
CREATED:20260104T123455Z
LAST-MODIFIED:20260104T123457Z
UID:1089-1768073400-1768087800@art-canrobert.de
SUMMARY:Krasser-Fahrstil\, Nie Wieder & Netzwerk
DESCRIPTION:Gleich zu Beginn des Jahres gibt es wieder eine Dreifachladung Punkrock auf die Ohren! \n\n\n\nKrasser-Fahrstil\n\n\n\nSo wie Rastatt selbst – rau und schroff – sorgen schon seit langem in der Provinzstadt für das gewisse Bisschen Punkrock. Zackige Songs mit viel Energie und klaren\, kritischen Aussagen dahinter geben Ihnen einen charakteristischen Sound\, der im Ohr bleibt. \n\n\n\nNie Wieder\n\n\n\nExtra zum 1. Mal zu Gast aus Backnang\, setzen mit ihrer Musik klare politische Statements. Gegen Macker\, verschwurbelte Montagsdemonstrant*innen und alles was sonst noch so den Kapitalismus vorantreibt oder Gewalt ausübt! \n\n\n\nNetzwerk\n\n\n\nDer Eine nennt es Blutrock’n’Roll\, ein Anderer Offbeat-Punkrock und der Dritte hört hier Freiheitslieder mit Hosen-Einschlag: Die vier Jungs aus Malsch haben sich dem Punkrock in allen rohen wie auch gefühlvollen Facetten verschrieben. Und so haben sie seit 1998 schon in Kellerclubs\, auf holprigen Wiesen im Nirgendwo oder in schwitzigen Jugendzentren\, in altehrwürdigen Villen oder besetzten Häusern gespielt.
URL:https://art-canrobert.de/veranstaltung/krasser-fahrstil-nie-wieder-netzwerk/
LOCATION:Art Canrobert e.V.\, Karlstraße 23 (Hintereingang)\, Rastatt\, Baden-Württemberg\, 76437\, Deutschland
CATEGORIES:Konzerte
ATTACH;FMTTYPE=image/jpeg:https://art-canrobert.de/wp-content/uploads/2026/01/260110-Krasser-Fahrstil.jpg
END:VEVENT
END:VCALENDAR