BEGIN:VCALENDAR
VERSION:2.0
PRODID:-//Art Canrobert e.V. - ECPv6.15.17.1//NONSGML v1.0//EN
CALSCALE:GREGORIAN
METHOD:PUBLISH
X-ORIGINAL-URL:https://art-canrobert.de
X-WR-CALDESC:Veranstaltungen für Art Canrobert e.V.
REFRESH-INTERVAL;VALUE=DURATION:PT1H
X-Robots-Tag:noindex
X-PUBLISHED-TTL:PT1H
BEGIN:VTIMEZONE
TZID:Europe/Berlin
BEGIN:DAYLIGHT
TZOFFSETFROM:+0100
TZOFFSETTO:+0200
TZNAME:CEST
DTSTART:20240331T010000
END:DAYLIGHT
BEGIN:STANDARD
TZOFFSETFROM:+0200
TZOFFSETTO:+0100
TZNAME:CET
DTSTART:20241027T010000
END:STANDARD
BEGIN:DAYLIGHT
TZOFFSETFROM:+0100
TZOFFSETTO:+0200
TZNAME:CEST
DTSTART:20250330T010000
END:DAYLIGHT
BEGIN:STANDARD
TZOFFSETFROM:+0200
TZOFFSETTO:+0100
TZNAME:CET
DTSTART:20251026T010000
END:STANDARD
BEGIN:DAYLIGHT
TZOFFSETFROM:+0100
TZOFFSETTO:+0200
TZNAME:CEST
DTSTART:20260329T010000
END:DAYLIGHT
BEGIN:STANDARD
TZOFFSETFROM:+0200
TZOFFSETTO:+0100
TZNAME:CET
DTSTART:20261025T010000
END:STANDARD
END:VTIMEZONE
BEGIN:VEVENT
DTSTART;TZID=Europe/Berlin:20251213T190000
DTEND;TZID=Europe/Berlin:20251213T233000
DTSTAMP:20260419T230413
CREATED:20251116T132501Z
LAST-MODIFIED:20251128T110213Z
UID:1078-1765652400-1765668600@art-canrobert.de
SUMMARY:Mess Up Your DNA\, Stereo Dynamite & Ohne Kompass
DESCRIPTION:Konzert im Art Canrobert am 13.12.? Richtig gehört! Passend zu einem dieser Abende\, die man sich rot im Kalender anstreicht\, haben wir für euch drei hervorragende Bands eingeladen – zwar ohne Punk\, aber mit reichlich Attitüde. \n\n\n\nOhne Kompass\n\n\n\nDer Post-Hardcore/Emo von OHNE KOMPASS bewegt sich durch tiefste Tiefen und höchste Höhen\, getragen von Melancholie\, Verzweiflung und einem Funken Hoffnung prallen persönliche auf gesellschaftliche Missstände. Gefangen zwischen dem Anspruch an sich selbst und dem Druck von außen erzählt die Band von Gemeinschaft und Isolation. Immer in der Hoffnung auf ein Meer an Mitgefühl. \n\n\n\nStereo Dynamite\n\n\n\nSTEREO DYNAMITE sind wieder voll da! Mit im Gepäck: laute und wütende Musik im Post-Hardcore-Spektrum mit deutschen Texten\, das Konzeptalbum Fernweh (10 Tracks\, 10 Videos + Roman\, 2022) und neue Songs\, veredelt von Mathias Bloech (Heisskalt) und aufgenommen von Konstantin Cajkin (Kind Kaputt) – Release 2026. Und natürlich viele gespielte Shows im deutschsprachigen Raum\, Schweden\, Frankreich und Ungarn u.a. mit Pennywise\, ZSK\, Sperling (ACR Sommerfest 2023 lässt grüßen)\, KMPFSPRT und den Emil Bulls. \n\n\n\nMess Up Your DNA\n\n\n\nWas gibt es über die drei Karlsruher von MESS UP YOUR DNA noch zu sagen\, was sie nicht selbst schon unzählige Male im ACR mit ihrem kompromisslosen Heavy Alternative/Crossover unter Beweis gestellt haben? Vielleicht das: Freut euch auf eines der wenigen Konzerte\, dass die Band in diesem Jahr gespielt hat – besser nicht verpassen!
URL:https://art-canrobert.de/veranstaltung/mess-up-your-dna-stereo-dynamite-ohne-kompass/
LOCATION:Art Canrobert e.V.\, Karlstraße 23 (Hintereingang)\, Rastatt\, Baden-Württemberg\, 76437\, Deutschland
CATEGORIES:Konzerte
ATTACH;FMTTYPE=image/jpeg:https://art-canrobert.de/wp-content/uploads/2025/11/251213.jpg
END:VEVENT
END:VCALENDAR