BEGIN:VCALENDAR
VERSION:2.0
PRODID:-//Art Canrobert e.V. - ECPv6.15.17.1//NONSGML v1.0//EN
CALSCALE:GREGORIAN
METHOD:PUBLISH
X-WR-CALNAME:Art Canrobert e.V.
X-ORIGINAL-URL:https://art-canrobert.de
X-WR-CALDESC:Veranstaltungen für Art Canrobert e.V.
REFRESH-INTERVAL;VALUE=DURATION:PT1H
X-Robots-Tag:noindex
X-PUBLISHED-TTL:PT1H
BEGIN:VTIMEZONE
TZID:Europe/Berlin
BEGIN:DAYLIGHT
TZOFFSETFROM:+0100
TZOFFSETTO:+0200
TZNAME:CEST
DTSTART:20240331T010000
END:DAYLIGHT
BEGIN:STANDARD
TZOFFSETFROM:+0200
TZOFFSETTO:+0100
TZNAME:CET
DTSTART:20241027T010000
END:STANDARD
BEGIN:DAYLIGHT
TZOFFSETFROM:+0100
TZOFFSETTO:+0200
TZNAME:CEST
DTSTART:20250330T010000
END:DAYLIGHT
BEGIN:STANDARD
TZOFFSETFROM:+0200
TZOFFSETTO:+0100
TZNAME:CET
DTSTART:20251026T010000
END:STANDARD
BEGIN:DAYLIGHT
TZOFFSETFROM:+0100
TZOFFSETTO:+0200
TZNAME:CEST
DTSTART:20260329T010000
END:DAYLIGHT
BEGIN:STANDARD
TZOFFSETFROM:+0200
TZOFFSETTO:+0100
TZNAME:CET
DTSTART:20261025T010000
END:STANDARD
END:VTIMEZONE
BEGIN:VEVENT
DTSTART;TZID=Europe/Berlin:20251114T190000
DTEND;TZID=Europe/Berlin:20251114T233000
DTSTAMP:20260419T212001
CREATED:20251109T170925Z
LAST-MODIFIED:20251109T170928Z
UID:1075-1763146800-1763163000@art-canrobert.de
SUMMARY:Lethal Three Hardcore Night mit Moral Fever\, Born Hanged & No Escape
DESCRIPTION:Lethal Three Hardcore Night \n\n\n\nEinlass: 19:00 Uhr Beginn: 21:00 Uhr  \n\n\n\nNo Escape \n\n\n\nDie Mannheimer Death-Metal-Dampfwalze eröffnet den Abend mit ihrem unverkennbaren HM-2-Kettensägensound. Erwarte groovige\, kompromisslos nach vorn treibende Songs\, die dir den Boden unter den Füßen wegziehen. Und das Beste: Pünktlich zum Konzert erscheint ihre brandneue 2-Song-EP – also höchste Zeit\, sich den Frust des Winters aus den Knochen prügeln zu lassen.  \n\n\n\nBorn Hanged \n\n\n\n2018 gegründet\, haben Born Hanged mit ihrem Death Metal/Hardcore-Hybriden schon früh die deutsche Szene erschüttert – ihre Demo sorgte damals für ordentlich Gesprächsstoff. Nach einem Hiatus ab 2020 sind sie nun stärker zurück denn je. Mit der frisch erschienenen EP Ultimate Savagery (Release am 07.11.) bringen sie rohe\, explosive Energie mit\, die keine Gefangenen macht. Zieht Helme an – es wird schnell.  \n\n\n\nMoral Fever \n\n\n\nAls Headliner liefert das Kölner Bollwerk eine Lektion in Metallic Hardcore. Doublebass-Salven\, zentnerschwere Grooves und energiegeladene Breakdowns sorgen dafür\, dass zum Ende des Abends garantiert niemand mehr stillsteht. Moral Fever fahren alles auf\, was den Puls der Szene höherschlagen lässt. Auch hier: Helmpflicht!  \n\n\n\nRunning Order \n\n\n\n21:00 No Escape 21:45 Born Hanged 22:30 Moral Fever
URL:https://art-canrobert.de/veranstaltung/lethal-three-hardcore-night-mit-moral-fever-born-hanged-no-escape/
LOCATION:Art Canrobert e.V.\, Karlstraße 23 (Hintereingang)\, Rastatt\, Baden-Württemberg\, 76437\, Deutschland
CATEGORIES:Konzerte
ATTACH;FMTTYPE=image/jpeg:https://art-canrobert.de/wp-content/uploads/2025/11/251114_Moral-Fever-Born-Hanged-No-Escape.jpg
END:VEVENT
END:VCALENDAR